BEGIN:VCALENDAR
VERSION:2.0
PRODID:-//https://www.gardihutter.com///NONSGML kigkonsult.se iCalcreator 2.10.15//
METHOD:PUBLISH
BEGIN:VEVENT
UID:20260422T121529CEST-3332rm5b8F@https://www.gardihutter.com/
DTSTAMP:20260422T101529Z
DESCRIPTION: https://www.gardihutter.com/component/rseventspro/evento/743-g
 ardizero?Itemid=126
DTSTART:20260320T190000Z
DTEND:20260320T201000Z
LOCATION:BASEL FAUTEUIL (Spalenberg 12 4001  Basel)
SUMMARY:gardiZERO 
URL:https://www.gardihutter.com/component/rseventspro/evento/743-gardizero?
 Itemid=126
END:VEVENT
END:VCALENDAR
