BEGIN:VCALENDAR
VERSION:2.0
PRODID:-//https://www.gardihutter.com///NONSGML kigkonsult.se iCalcreator 2.10.15//
METHOD:PUBLISH
BEGIN:VEVENT
UID:20260423T085512CEST-7272nuRZmu@https://www.gardihutter.com/
DTSTAMP:20260423T065512Z
DESCRIPTION: https://www.gardihutter.com/component/rseventspro/evento/748-g
 ardizero-letzte-tickets?Itemid=126
DTSTART:20260527T173000Z
DTEND:20260527T184000Z
LOCATION:SCHAFFHAUSEN - Stadttheater (Herrenacker 22\, 8200 Schaffhausen\, 
 Svizzera)
SUMMARY:gardiZERO - Letzte tickets
URL:https://www.gardihutter.com/component/rseventspro/evento/748-gardizero-
 letzte-tickets?Itemid=126
END:VEVENT
END:VCALENDAR
