BEGIN:VCALENDAR
VERSION:2.0
PRODID:-//https://www.gardihutter.com///NONSGML kigkonsult.se iCalcreator 2.10.15//
METHOD:PUBLISH
BEGIN:VEVENT
UID:20260419T212149CEST-2232xc3ppB@https://www.gardihutter.com/
DTSTAMP:20260419T192149Z
DESCRIPTION: https://www.gardihutter.com/component/rseventspro/evento/770-g
 ardizero-ausverkauft?Itemid=126
DTSTART:20260501T180000Z
DTEND:20260501T191000Z
LOCATION:LUZERN - Kleinteater  (Bundespl. 14\, 6003 Luzern\, Svizzera)
SUMMARY:gardiZERO - Ausverkauft 
URL:https://www.gardihutter.com/component/rseventspro/evento/770-gardizero-
 ausverkauft?Itemid=126
END:VEVENT
END:VCALENDAR
