BEGIN:VCALENDAR
VERSION:2.0
PRODID:-//https://www.gardihutter.com///NONSGML kigkonsult.se iCalcreator 2.10.15//
METHOD:PUBLISH
BEGIN:VEVENT
UID:20260425T044702CEST-7795eu376I@https://www.gardihutter.com/
DTSTAMP:20260425T024702Z
DESCRIPTION: https://www.gardihutter.com/de/component/rseventspro/event/849
 -gardizero?Itemid=129
DTSTART:20260626T190000Z
DTEND:20260626T201000Z
LOCATION:PIOVE DI SACCO - Teatro Filarmonico - Festival Scene di Paglia (Pi
 azza Giacomo Matteotti 5/7)
SUMMARY:gardiZERO 
URL:https://www.gardihutter.com/de/component/rseventspro/event/849-gardizer
 o?Itemid=129
END:VEVENT
END:VCALENDAR
