BEGIN:VCALENDAR
VERSION:2.0
PRODID:-//https://www.gardihutter.com///NONSGML kigkonsult.se iCalcreator 2.10.15//
METHOD:PUBLISH
BEGIN:VEVENT
UID:20260419T204450CEST-4952WcZe02@https://www.gardihutter.com/
DTSTAMP:20260419T184450Z
DESCRIPTION: https://www.gardihutter.com/en/component/rseventspro/event/771
 -gardizero-ausverkauft?Itemid=131
DTSTART:20260502T180000Z
DTEND:20260502T191000Z
LOCATION:LUZERN - Kleinteater  (Bundespl. 14\, 6003 Luzern\, Svizzera)
SUMMARY:gardiZERO - Ausverkauft 
URL:https://www.gardihutter.com/en/component/rseventspro/event/771-gardizer
 o-ausverkauft?Itemid=131
END:VEVENT
END:VCALENDAR
