BEGIN:VCALENDAR
VERSION:2.0
PRODID:-//https://www.gardihutter.com///NONSGML kigkonsult.se iCalcreator 2.10.15//
METHOD:PUBLISH
BEGIN:VEVENT
UID:20260419T205114CEST-9461u4a4vu@https://www.gardihutter.com/
DTSTAMP:20260419T185114Z
DESCRIPTION: https://www.gardihutter.com/en/component/rseventspro/event/772
 -gardizero-ausverkauft?Itemid=131
DTSTART:20260503T180000Z
DTEND:20260503T191000Z
LOCATION:LUZERN - Kleinteater  (Bundespl. 14\, 6003 Luzern\, Svizzera)
SUMMARY:gardiZERO - Ausverkauft 
URL:https://www.gardihutter.com/en/component/rseventspro/event/772-gardizer
 o-ausverkauft?Itemid=131
END:VEVENT
END:VCALENDAR
