BEGIN:VCALENDAR
VERSION:2.0
PRODID:-//https://www.gardihutter.com///NONSGML kigkonsult.se iCalcreator 2.10.15//
METHOD:PUBLISH
BEGIN:VEVENT
UID:20260420T042713CEST-0684959SWE@https://www.gardihutter.com/
DTSTAMP:20260420T022713Z
DESCRIPTION: https://www.gardihutter.com/en/component/rseventspro/event/773
 -gardizero-ausverkauft?Itemid=131
DTSTART:20260508T180000Z
DTEND:20260508T191000Z
LOCATION:BERN - La Cappella (Allmendstrasse 24\, 3014 Bern\, Svizzera)
SUMMARY:gardiZERO - Ausverkauft 
URL:https://www.gardihutter.com/en/component/rseventspro/event/773-gardizer
 o-ausverkauft?Itemid=131
END:VEVENT
END:VCALENDAR
