BEGIN:VCALENDAR
VERSION:2.0
PRODID:-//https://www.gardihutter.com///NONSGML kigkonsult.se iCalcreator 2.10.15//
METHOD:PUBLISH
BEGIN:VEVENT
UID:20260420T073513CEST-1121oFjd13@https://www.gardihutter.com/
DTSTAMP:20260420T053513Z
DESCRIPTION: https://www.gardihutter.com/en/component/rseventspro/event/775
 -gardizero-letzte-tickets?Itemid=131
DTSTART:20260510T130000Z
DTEND:20260510T141000Z
LOCATION:BERN - La Cappella (Allmendstrasse 24\, 3014 Bern\, Svizzera)
SUMMARY:gardiZERO  - Letzte tickets
URL:https://www.gardihutter.com/en/component/rseventspro/event/775-gardizer
 o-letzte-tickets?Itemid=131
END:VEVENT
END:VCALENDAR
