BEGIN:VCALENDAR
VERSION:2.0
PRODID:-//https://www.gardihutter.com///NONSGML kigkonsult.se iCalcreator 2.10.15//
METHOD:PUBLISH
BEGIN:VEVENT
UID:20260423T133726CEST-4223RfEUK0@https://www.gardihutter.com/
DTSTAMP:20260423T113726Z
DESCRIPTION: https://www.gardihutter.com/en/component/rseventspro/event/814
 -gardizero-sketch-kurzauftritt?Itemid=131
DTSTART:20260530T163000Z
DTEND:20260530T170000Z
LOCATION:WINTERTHUR - Casinotheater Winterthur - Gala  (Stadthausstrasse 11
 9)
SUMMARY:gardiZERO  - Sketch - Kurzauftritt
URL:https://www.gardihutter.com/en/component/rseventspro/event/814-gardizer
 o-sketch-kurzauftritt?Itemid=131
END:VEVENT
END:VCALENDAR
