BEGIN:VCALENDAR
VERSION:2.0
PRODID:-//https://www.gardihutter.com///NONSGML kigkonsult.se iCalcreator 2.10.15//
METHOD:PUBLISH
BEGIN:VEVENT
UID:20260419T195916CEST-250263jnF2@https://www.gardihutter.com/
DTSTAMP:20260419T175916Z
DESCRIPTION: https://www.gardihutter.com/fr/component/rseventspro/evenement
 /768-gardizero?Itemid=130
DTSTART:20260424T180000Z
DTEND:20260424T191000Z
LOCATION:FRIEDRICHSDORF - Forum Friedrichsdorf (Dreieichstraße 22\, 61381 F
 riedrichsdorf\, Germania)
SUMMARY:gardiZERO 
URL:https://www.gardihutter.com/fr/component/rseventspro/evenement/768-gard
 izero?Itemid=130
END:VEVENT
END:VCALENDAR
