BEGIN:VCALENDAR
VERSION:2.0
PRODID:-//https://www.gardihutter.com///NONSGML kigkonsult.se iCalcreator 2.10.15//
METHOD:PUBLISH
BEGIN:VEVENT
UID:20260419T230203CEST-9546IT1jMv@https://www.gardihutter.com/
DTSTAMP:20260419T210203Z
DESCRIPTION: https://www.gardihutter.com/fr/component/rseventspro/evenement
 /776-gardizero?Itemid=130
DTSTART:20260529T180000Z
DTEND:20260529T191000Z
LOCATION:EBIKON - Comedy Festival (Sonnhaldestrasse 76\, 6030 Ebikon\, Sviz
 zera)
SUMMARY:gardiZERO 
URL:https://www.gardihutter.com/fr/component/rseventspro/evenement/776-gard
 izero?Itemid=130
END:VEVENT
END:VCALENDAR
