BEGIN:VCALENDAR
VERSION:2.0
PRODID:-//https://www.gardihutter.com///NONSGML kigkonsult.se iCalcreator 2.10.15//
METHOD:PUBLISH
BEGIN:VEVENT
UID:20260419T200242CEST-5020hvagCX@https://www.gardihutter.com/
DTSTAMP:20260419T180242Z
DESCRIPTION: https://www.gardihutter.com/fr/component/rseventspro/evenement
 /782-gardizero?Itemid=130
DTSTART:20260423T180000Z
DTEND:20260423T191000Z
LOCATION:HERRENBERG - Mauerwerk (Hindenburgstraße 22\, 71083 Herrenberg\, G
 ermania)
SUMMARY:gardiZERO 
URL:https://www.gardihutter.com/fr/component/rseventspro/evenement/782-gard
 izero?Itemid=130
END:VEVENT
END:VCALENDAR
