BEGIN:VCALENDAR
VERSION:2.0
PRODID:-//https://www.gardihutter.com///NONSGML kigkonsult.se iCalcreator 2.10.15//
METHOD:PUBLISH
BEGIN:VEVENT
UID:20260419T225932CEST-7986dxo7R3@https://www.gardihutter.com/
DTSTAMP:20260419T205932Z
DESCRIPTION: https://www.gardihutter.com/fr/component/rseventspro/evenement
 /783-gardizero?Itemid=130
DTSTART:20261101T190000Z
DTEND:20261101T201000Z
LOCATION:SALZGITTER - Kniestedter Kirche (Braunschweiger Str. 133\, 38259 S
 alzgitter\, Germania)
SUMMARY:gardiZERO 
URL:https://www.gardihutter.com/fr/component/rseventspro/evenement/783-gard
 izero?Itemid=130
END:VEVENT
END:VCALENDAR
