BEGIN:VCALENDAR
VERSION:2.0
PRODID:-//https://www.gardihutter.com///NONSGML kigkonsult.se iCalcreator 2.10.15//
METHOD:PUBLISH
BEGIN:VEVENT
UID:20260419T200634CEST-2915WOc4wn@https://www.gardihutter.com/
DTSTAMP:20260419T180634Z
DESCRIPTION: https://www.gardihutter.com/fr/component/rseventspro/evenement
 /803-gardizero?Itemid=130
DTSTART:20260425T181500Z
DTEND:20260425T192500Z
LOCATION:STUTTGART - Theaterhaus  (Siemensstraße 11\, 70469 Stuttgart\, Ger
 mania)
SUMMARY:gardiZERO 
URL:https://www.gardihutter.com/fr/component/rseventspro/evenement/803-gard
 izero?Itemid=130
END:VEVENT
END:VCALENDAR
