BEGIN:VCALENDAR
VERSION:2.0
PRODID:-//https://www.gardihutter.com///NONSGML kigkonsult.se iCalcreator 2.10.15//
METHOD:PUBLISH
BEGIN:VEVENT
UID:20260419T225811CEST-7165V5pgti@https://www.gardihutter.com/
DTSTAMP:20260419T205811Z
DESCRIPTION: https://www.gardihutter.com/fr/component/rseventspro/evenement
 /805-gardizero?Itemid=130
DTSTART:20261002T180000Z
DTEND:20261002T191000Z
LOCATION:ZÜRICH - Bernhard Theater (Falkenstrasse 1)
SUMMARY:gardiZERO 
URL:https://www.gardihutter.com/fr/component/rseventspro/evenement/805-gard
 izero?Itemid=130
END:VEVENT
END:VCALENDAR
