BEGIN:VCALENDAR
VERSION:2.0
PRODID:-//https://www.gardihutter.com///NONSGML kigkonsult.se iCalcreator 2.10.15//
METHOD:PUBLISH
BEGIN:VEVENT
UID:20260419T225221CEST-7254sskirb@https://www.gardihutter.com/
DTSTAMP:20260419T205221Z
DESCRIPTION: https://www.gardihutter.com/fr/component/rseventspro/evenement
 /809-gardizero?Itemid=130
DTSTART:20261011T160000Z
DTEND:20261011T171000Z
LOCATION:ZÜRICH - Bernhard Theater (Falkenstrasse 1)
SUMMARY:gardiZERO 
URL:https://www.gardihutter.com/fr/component/rseventspro/evenement/809-gard
 izero?Itemid=130
END:VEVENT
END:VCALENDAR
