BEGIN:VCALENDAR
VERSION:2.0
PRODID:-//https://www.gardihutter.com///NONSGML kigkonsult.se iCalcreator 2.10.15//
METHOD:PUBLISH
BEGIN:VEVENT
UID:20260419T231026CEST-0771jP9uhv@https://www.gardihutter.com/
DTSTAMP:20260419T211026Z
DESCRIPTION: https://www.gardihutter.com/fr/component/rseventspro/evenement
 /818-gardizero?Itemid=130
DTSTART:20260611T183000Z
DTEND:20260611T194000Z
LOCATION:PORSGRUNN (NO) -PIT FESTIVAL - Grenland Friteater (Huken 3 D)
SUMMARY:gardiZERO 
URL:https://www.gardihutter.com/fr/component/rseventspro/evenement/818-gard
 izero?Itemid=130
END:VEVENT
END:VCALENDAR
