BEGIN:VCALENDAR
VERSION:2.0
PRODID:-//https://www.gardihutter.com///NONSGML kigkonsult.se iCalcreator 2.10.15//
METHOD:PUBLISH
BEGIN:VEVENT
UID:20260419T230304CEST-8767KkgBUF@https://www.gardihutter.com/
DTSTAMP:20260419T210304Z
DESCRIPTION: https://www.gardihutter.com/fr/component/rseventspro/evenement
 /819-gardizero?Itemid=130
DTSTART:20260613T180000Z
DTEND:20260613T191000Z
LOCATION:JS LELYSTAD (NL) - Clownsfestival Neus Op! - Theater de Kubus (Ago
 rabaan 3)
SUMMARY:gardiZERO 
URL:https://www.gardihutter.com/fr/component/rseventspro/evenement/819-gard
 izero?Itemid=130
END:VEVENT
END:VCALENDAR
