BEGIN:VCALENDAR
VERSION:2.0
PRODID:-//https://www.gardihutter.com///NONSGML kigkonsult.se iCalcreator 2.10.15//
METHOD:PUBLISH
BEGIN:VEVENT
UID:20260419T225922CEST-7979lvEId9@https://www.gardihutter.com/
DTSTAMP:20260419T205922Z
DESCRIPTION: https://www.gardihutter.com/fr/component/rseventspro/evenement
 /821-gardizero?Itemid=130
DTSTART:20260907T180000Z
DTEND:20260907T191000Z
LOCATION:VALSEQUILLO GRAN CANARIA - Teatro Oficial Jacinto Suáres Martel ()
SUMMARY:gardiZERO 
URL:https://www.gardihutter.com/fr/component/rseventspro/evenement/821-gard
 izero?Itemid=130
END:VEVENT
END:VCALENDAR
