BEGIN:VCALENDAR
VERSION:2.0
PRODID:-//https://www.gardihutter.com///NONSGML kigkonsult.se iCalcreator 2.10.15//
METHOD:PUBLISH
BEGIN:VEVENT
UID:20260419T231327CEST-42843EKcfK@https://www.gardihutter.com/
DTSTAMP:20260419T211327Z
DESCRIPTION: https://www.gardihutter.com/fr/component/rseventspro/evenement
 /822-gardizero?Itemid=130
DTSTART:20261023T193000Z
DTEND:20261023T204000Z
LOCATION:SANT. ESTEVE DE PALAUTORDERA (Barcellona) - CIRC CRIC ()
SUMMARY:gardiZERO 
URL:https://www.gardihutter.com/fr/component/rseventspro/evenement/822-gard
 izero?Itemid=130
END:VEVENT
END:VCALENDAR
