BEGIN:VCALENDAR
VERSION:2.0
PRODID:-//https://www.gardihutter.com///NONSGML kigkonsult.se iCalcreator 2.10.15//
METHOD:PUBLISH
BEGIN:VEVENT
UID:20260421T151708CEST-9650BusVNb@https://www.gardihutter.com/
DTSTAMP:20260421T131708Z
DESCRIPTION: https://www.gardihutter.com/fr/component/rseventspro/evenement
 /823-gardizero?Itemid=130
DTSTART:20260925T180000Z
DTEND:20260925T191000Z
LOCATION:STANS - Chäslager (Alter Postpl. 3\, 6370 Stans\, Svizzera)
SUMMARY:gardiZERO 
URL:https://www.gardihutter.com/fr/component/rseventspro/evenement/823-gard
 izero?Itemid=130
END:VEVENT
END:VCALENDAR
