BEGIN:VCALENDAR
VERSION:2.0
PRODID:-//https://www.gardihutter.com///NONSGML kigkonsult.se iCalcreator 2.10.15//
METHOD:PUBLISH
BEGIN:VEVENT
UID:20260419T230305CEST-3899OUsaXp@https://www.gardihutter.com/
DTSTAMP:20260419T210305Z
DESCRIPTION: https://www.gardihutter.com/fr/component/rseventspro/evenement
 /824-gardizero?Itemid=130
DTSTART:20260926T180000Z
DTEND:20260926T191000Z
LOCATION:SURSEE - Stadttheater (Theaterstrasse 5)
SUMMARY:gardiZERO 
URL:https://www.gardihutter.com/fr/component/rseventspro/evenement/824-gard
 izero?Itemid=130
END:VEVENT
END:VCALENDAR
