BEGIN:VCALENDAR
VERSION:2.0
PRODID:-//https://www.gardihutter.com///NONSGML kigkonsult.se iCalcreator 2.10.15//
METHOD:PUBLISH
BEGIN:VEVENT
UID:20260419T230818CEST-2318E7bpSz@https://www.gardihutter.com/
DTSTAMP:20260419T210818Z
DESCRIPTION: https://www.gardihutter.com/fr/component/rseventspro/evenement
 /826-gardizero?Itemid=130
DTSTART:20261018T170000Z
DTEND:20261018T181000Z
LOCATION:CORNELLÀ de LLOBREGAT (SPAGNA) - Sala Gran de l’ Auditori  ()
SUMMARY:gardiZERO 
URL:https://www.gardihutter.com/fr/component/rseventspro/evenement/826-gard
 izero?Itemid=130
END:VEVENT
END:VCALENDAR
