BEGIN:VCALENDAR
VERSION:2.0
PRODID:-//https://www.gardihutter.com///NONSGML kigkonsult.se iCalcreator 2.10.15//
METHOD:PUBLISH
BEGIN:VEVENT
UID:20260420T151103CEST-5998XpcOR5@https://www.gardihutter.com/
DTSTAMP:20260420T131103Z
DESCRIPTION: https://www.gardihutter.com/fr/component/rseventspro/evenement
 /828-gardizero?Itemid=130
DTSTART:20261031T190000Z
DTEND:20261031T201000Z
LOCATION:BERLIN - Varietésalon in der UfA Fabrik (Viktoriastraße 10\, 12105
  Berlin\, Germania)
SUMMARY:gardiZERO 
URL:https://www.gardihutter.com/fr/component/rseventspro/evenement/828-gard
 izero?Itemid=130
END:VEVENT
END:VCALENDAR
