BEGIN:VCALENDAR
VERSION:2.0
PRODID:-//https://www.gardihutter.com///NONSGML kigkonsult.se iCalcreator 2.10.15//
METHOD:PUBLISH
BEGIN:VEVENT
UID:20260419T225039CEST-2826WHemc2@https://www.gardihutter.com/
DTSTAMP:20260419T205039Z
DESCRIPTION: https://www.gardihutter.com/fr/component/rseventspro/evenement
 /830-gardizero?Itemid=130
DTSTART:20260918T160000Z
DTEND:20260918T171000Z
LOCATION:MOSS (NORVEGIA) - Parkteatret (Dronningens gate 25)
SUMMARY:gardiZERO 
URL:https://www.gardihutter.com/fr/component/rseventspro/evenement/830-gard
 izero?Itemid=130
END:VEVENT
END:VCALENDAR
