BEGIN:VCALENDAR
VERSION:2.0
PRODID:-//https://www.gardihutter.com///NONSGML kigkonsult.se iCalcreator 2.10.15//
METHOD:PUBLISH
BEGIN:VEVENT
UID:20260419T231559CEST-4476761Hlc@https://www.gardihutter.com/
DTSTAMP:20260419T211559Z
DESCRIPTION: https://www.gardihutter.com/fr/component/rseventspro/evenement
 /835-gardizero?Itemid=130
DTSTART:20261212T190000Z
DTEND:20261212T201000Z
LOCATION:BURGDORF - Casino Theater (Kirchbühl 14\, 3400 Burgdorf\, Svizzera
 )
SUMMARY:gardiZERO 
URL:https://www.gardihutter.com/fr/component/rseventspro/evenement/835-gard
 izero?Itemid=130
END:VEVENT
END:VCALENDAR
