BEGIN:VCALENDAR
VERSION:2.0
PRODID:-//https://www.gardihutter.com///NONSGML kigkonsult.se iCalcreator 2.10.15//
METHOD:PUBLISH
BEGIN:VEVENT
UID:20260419T225922CEST-92656eBcnE@https://www.gardihutter.com/
DTSTAMP:20260419T205922Z
DESCRIPTION: https://www.gardihutter.com/fr/component/rseventspro/evenement
 /836-gardizero?Itemid=130
DTSTART:20261213T170000Z
DTEND:20261213T181000Z
LOCATION:ALTDORF Theater Uri (Schützengasse 11)
SUMMARY:gardiZERO 
URL:https://www.gardihutter.com/fr/component/rseventspro/evenement/836-gard
 izero?Itemid=130
END:VEVENT
END:VCALENDAR
