BEGIN:VCALENDAR
VERSION:2.0
PRODID:-//https://www.gardihutter.com///NONSGML kigkonsult.se iCalcreator 2.10.15//
METHOD:PUBLISH
BEGIN:VEVENT
UID:20260419T230818CEST-0947CG9fiF@https://www.gardihutter.com/
DTSTAMP:20260419T210818Z
DESCRIPTION: https://www.gardihutter.com/fr/component/rseventspro/evenement
 /844-gardizero?Itemid=130
DTSTART:20270225T190000Z
DTEND:20270225T201000Z
LOCATION:BASEL FAUTEUIL (Spalenberg 12 4001  Basel)
SUMMARY:gardiZERO 
URL:https://www.gardihutter.com/fr/component/rseventspro/evenement/844-gard
 izero?Itemid=130
END:VEVENT
END:VCALENDAR
