BEGIN:VCALENDAR
VERSION:2.0
PRODID:-//https://www.gardihutter.com///NONSGML kigkonsult.se iCalcreator 2.10.15//
METHOD:PUBLISH
BEGIN:VEVENT
UID:20260419T230203CEST-358250vWZ9@https://www.gardihutter.com/
DTSTAMP:20260419T210203Z
DESCRIPTION: https://www.gardihutter.com/fr/component/rseventspro/evenement
 /847-gardizero?Itemid=130
DTSTART:20270228T160000Z
DTEND:20270228T171000Z
LOCATION:BASEL FAUTEUIL (Spalenberg 12 4001  Basel)
SUMMARY:gardiZERO 
URL:https://www.gardihutter.com/fr/component/rseventspro/evenement/847-gard
 izero?Itemid=130
END:VEVENT
END:VCALENDAR
