BEGIN:VCALENDAR
VERSION:2.0
PRODID:-//https://www.gardihutter.com///NONSGML kigkonsult.se iCalcreator 2.10.15//
METHOD:PUBLISH
BEGIN:VEVENT
UID:20260419T225828CEST-0653sUGowL@https://www.gardihutter.com/
DTSTAMP:20260419T205828Z
DESCRIPTION: https://www.gardihutter.com/fr/component/rseventspro/evenement
 /848-gardizero?Itemid=130
DTSTART:20270409T180000Z
DTEND:20270409T191000Z
LOCATION:DIETIKON - Gleis21 (Buchsackerstrasse 21)
SUMMARY:gardiZERO 
URL:https://www.gardihutter.com/fr/component/rseventspro/evenement/848-gard
 izero?Itemid=130
END:VEVENT
END:VCALENDAR
