BEGIN:VCALENDAR
VERSION:2.0
PRODID:-//https://www.gardihutter.com///NONSGML kigkonsult.se iCalcreator 2.10.15//
METHOD:PUBLISH
BEGIN:VEVENT
UID:20260419T230046CEST-6772vAbLja@https://www.gardihutter.com/
DTSTAMP:20260419T210046Z
DESCRIPTION: https://www.gardihutter.com/fr/component/rseventspro/evenement
 /852-gardizero?Itemid=130
DTSTART:20270306T191500Z
DTEND:20270306T202500Z
LOCATION:STUTTGART - Theaterhaus  (Siemensstraße 11\, 70469 Stuttgart\, Ger
 mania)
SUMMARY:gardiZERO 
URL:https://www.gardihutter.com/fr/component/rseventspro/evenement/852-gard
 izero?Itemid=130
END:VEVENT
END:VCALENDAR
