BEGIN:VCALENDAR
VERSION:2.0
PRODID:-//https://www.gardihutter.com///NONSGML kigkonsult.se iCalcreator 2.10.15//
METHOD:PUBLISH
BEGIN:VEVENT
UID:20260419T225827CEST-3784oZEmkh@https://www.gardihutter.com/
DTSTAMP:20260419T205827Z
DESCRIPTION: https://www.gardihutter.com/fr/component/rseventspro/evenement
 /853-gardizero?Itemid=130
DTSTART:20270309T190000Z
DTEND:20270309T201000Z
LOCATION:LANDSBERG AM LECH - Stadttheater Landsberg (Schlossergasse 381\, 8
 6899 Landsberg am Lech\, Germania)
SUMMARY:gardiZERO 
URL:https://www.gardihutter.com/fr/component/rseventspro/evenement/853-gard
 izero?Itemid=130
END:VEVENT
END:VCALENDAR
