BEGIN:VCALENDAR
VERSION:2.0
PRODID:-//https://www.gardihutter.com///NONSGML kigkonsult.se iCalcreator 2.10.15//
METHOD:PUBLISH
BEGIN:VEVENT
UID:20260419T230812CEST-1454i6RT9t@https://www.gardihutter.com/
DTSTAMP:20260419T210812Z
DESCRIPTION: https://www.gardihutter.com/fr/component/rseventspro/evenement
 /854-gardizero?Itemid=130
DTSTART:20270311T190000Z
DTEND:20270311T201000Z
LOCATION:MÜNCHEN - Lustspielhaus (Occamstraße 8\, 80802 München\, Germania)
SUMMARY:gardiZERO 
URL:https://www.gardihutter.com/fr/component/rseventspro/evenement/854-gard
 izero?Itemid=130
END:VEVENT
END:VCALENDAR
