BEGIN:VCALENDAR
VERSION:2.0
PRODID:-//https://www.gardihutter.com///NONSGML kigkonsult.se iCalcreator 2.10.15//
METHOD:PUBLISH
BEGIN:VEVENT
UID:20260420T151103CEST-4918UUoInG@https://www.gardihutter.com/
DTSTAMP:20260420T131103Z
DESCRIPTION: https://www.gardihutter.com/fr/component/rseventspro/evenement
 /857-gardizero?Itemid=130
DTSTART:20271008T180000Z
DTEND:20271008T191000Z
LOCATION:TÜBINGEN - Sudhaus (Hechinger Str. 203\, 72072 Tübingen\, Germania
 )
SUMMARY:gardiZERO 
URL:https://www.gardihutter.com/fr/component/rseventspro/evenement/857-gard
 izero?Itemid=130
END:VEVENT
END:VCALENDAR
