BEGIN:VCALENDAR
VERSION:2.0
PRODID:-//https://www.gardihutter.com///NONSGML kigkonsult.se iCalcreator 2.10.15//
METHOD:PUBLISH
BEGIN:VEVENT
UID:20260419T230157CEST-7922Pg0xM8@https://www.gardihutter.com/
DTSTAMP:20260419T210157Z
DESCRIPTION: https://www.gardihutter.com/fr/component/rseventspro/evenement
 /858-gardizero?Itemid=130
DTSTART:20261003T180000Z
DTEND:20261003T191000Z
LOCATION:BERN - La Cappella (Allmendstrasse 24\, 3014 Bern\, Svizzera)
SUMMARY:gardiZERO 
URL:https://www.gardihutter.com/fr/component/rseventspro/evenement/858-gard
 izero?Itemid=130
END:VEVENT
END:VCALENDAR
