BEGIN:VCALENDAR
VERSION:2.0
PRODID:-//https://www.gardihutter.com///NONSGML kigkonsult.se iCalcreator 2.10.15//
METHOD:PUBLISH
BEGIN:VEVENT
UID:20260421T120522CEST-3647jpe9ui@https://www.gardihutter.com/
DTSTAMP:20260421T100522Z
DESCRIPTION: https://www.gardihutter.com/fr/spectacles/evenement/815-gardiz
 ero
DTSTART:20260617T180000Z
DTEND:20260617T191000Z
LOCATION:ULM - Ulmer Zelt (89073 Ulm\, Germania)
SUMMARY:gardiZERO 
URL:https://www.gardihutter.com/fr/spectacles/evenement/815-gardizero
END:VEVENT
END:VCALENDAR
