BEGIN:VCALENDAR
VERSION:2.0
PRODID:-//https://www.gardihutter.com///NONSGML kigkonsult.se iCalcreator 2.10.15//
METHOD:PUBLISH
BEGIN:VEVENT
UID:20260421T103527CEST-1894C83A5E@https://www.gardihutter.com/
DTSTAMP:20260421T083527Z
DESCRIPTION: https://www.gardihutter.com/fr/spectacles/evenement/825-gardiz
 ero
DTSTART:20261016T183000Z
DTEND:20261016T194000Z
LOCATION:TORINO - Pagliacce network (Corso Regina Margherita\, 154\, 10152 
 Torino TO\, Italia)
SUMMARY:gardiZERO 
URL:https://www.gardihutter.com/fr/spectacles/evenement/825-gardizero
END:VEVENT
END:VCALENDAR
